BEGIN:VCALENDAR
VERSION:2.0
PRODID:-//http://XXX//Event
METHOD:PUBLISH
BEGIN:VEVENT
DTSTART;VALUE=DATE:20240912
DTEND;VALUE=DATE:20240914
DESCRIPTION;LANGUAGE=en-us:CRITICAL ISSUES Facing Children &amp\; Adolescents
SUMMARY;LANGUAGE=en-us:CRITICAL ISSUES Facing Children &amp\; Adolescents
LOCATION:Salt Lake City\, UT
END:VEVENT
END:VCALENDAR