BEGIN:VCALENDAR
VERSION:2.0
PRODID:-//http://XXX//Event
METHOD:PUBLISH
BEGIN:VEVENT
DTSTART;VALUE=DATE:20240821
DTEND;VALUE=DATE:20240912
DESCRIPTION;LANGUAGE=en-us:Back To School Toddler Social Time
SUMMARY;LANGUAGE=en-us:Back To School Toddler Social Time
LOCATION:330 Wallace Rd\, Suite 6\, Nashville\, Tennessee 37211
END:VEVENT
END:VCALENDAR