BEGIN:VCALENDAR
VERSION:2.0
PRODID:-//http://XXX//Event
METHOD:PUBLISH
BEGIN:VEVENT
DTSTART;VALUE=DATE:20260327
DTEND;VALUE=DATE:20260328
DESCRIPTION;LANGUAGE=en-us:South Mesa Community Carnival
SUMMARY;LANGUAGE=en-us:South Mesa Community Carnival
LOCATION:St. George\, UT
END:VEVENT
END:VCALENDAR