BEGIN:VCALENDAR
VERSION:2.0
PRODID:-//http://XXX//Event
METHOD:PUBLISH
BEGIN:VEVENT
DTSTART;VALUE=DATE:20260321
DTEND;VALUE=DATE:20260322
DESCRIPTION;LANGUAGE=en-us:Donut Dash 5K
SUMMARY;LANGUAGE=en-us:Donut Dash 5K
LOCATION:St. George\, UT
END:VEVENT
END:VCALENDAR