BEGIN:VCALENDAR
VERSION:2.0
PRODID:-//http://XXX//Event
METHOD:PUBLISH
BEGIN:VEVENT
DTSTART;VALUE=DATE:20251031
DTEND;VALUE=DATE:20251101
DESCRIPTION;LANGUAGE=en-us:Spook-tacular Trunk-or-Treat
SUMMARY;LANGUAGE=en-us:Spook-tacular Trunk-or-Treat
LOCATION:St. George\, UT
END:VEVENT
END:VCALENDAR