BEGIN:VCALENDAR
VERSION:2.0
PRODID:-//http://XXX//Event
METHOD:PUBLISH
BEGIN:VEVENT
DTSTART;VALUE=DATE:20250723
DTEND;VALUE=DATE:20250828
DESCRIPTION;LANGUAGE=en-us:Sunshine Sensory Social Group
SUMMARY;LANGUAGE=en-us:Sunshine Sensory Social Group
LOCATION:St. George\, UT
END:VEVENT
END:VCALENDAR