BEGIN:VCALENDAR
VERSION:2.0
PRODID:-//http://XXX//Event
METHOD:PUBLISH
BEGIN:VEVENT
DTSTART;VALUE=DATE:20250823
DTEND;VALUE=DATE:20250824
DESCRIPTION;LANGUAGE=en-us:2025 York Summerfest
SUMMARY;LANGUAGE=en-us:2025 York Summerfest
LOCATION:York\, SC
END:VEVENT
END:VCALENDAR