BEGIN:VCALENDAR
VERSION:2.0
PRODID:-//http://XXX//Event
METHOD:PUBLISH
BEGIN:VEVENT
DTSTART;VALUE=DATE:20250823
DTEND;VALUE=DATE:20250824
DESCRIPTION;LANGUAGE=en-us:Sensory Friendly Cosmic Playtime
SUMMARY;LANGUAGE=en-us:Sensory Friendly Cosmic Playtime
LOCATION:Greensboro\, NC
END:VEVENT
END:VCALENDAR