BEGIN:VCALENDAR
VERSION:2.0
PRODID:-//http://XXX//Event
METHOD:PUBLISH
BEGIN:VEVENT
DTSTART;VALUE=DATE:20250412
DTEND;VALUE=DATE:20250413
DESCRIPTION;LANGUAGE=en-us:Autism Awareness &amp\; Acceptance Fair
SUMMARY;LANGUAGE=en-us:Autism Awareness &amp\; Acceptance Fair
LOCATION:Hendersonville\, TN
END:VEVENT
END:VCALENDAR