BEGIN:VCALENDAR
VERSION:2.0
PRODID:-//http://XXX//Event
METHOD:PUBLISH
BEGIN:VEVENT
DTSTART;VALUE=DATE:20250327
DTEND;VALUE=DATE:20250328
DESCRIPTION;LANGUAGE=en-us:Hopes and Dreams Conference 2025
SUMMARY;LANGUAGE=en-us:Hopes and Dreams Conference 2025
LOCATION:Columbia\, SC
END:VEVENT
END:VCALENDAR